BEGIN:VCALENDAR
VERSION:2.0
PRODID:kalender.digital
METHOD:PUBLISH
BEGIN:VEVENT
UID:KDIG1142953312
DTSTART:20260109T180000Z
SEQUENCE:0
TRANSP:OPAQUE
DTEND:20260109T210000Z
LOCATION:Gasthof Stollenwerk\, Im Hech 4\, 52152 Simmerath-Steckenborn
SUMMARY:OV Abend
ATTENDEE:OV Mitglieder und Gäste
CLASS:PUBLIC
DESCRIPTION:Monatliche OV Abend des Ortsverbandes G26 Rureifel
CATEGORIES:DARC
DTSTAMP:20260325T104632Z
CREATED:20250605T090419Z
LAST-MODIFIED:20260105T194335Z
END:VEVENT
BEGIN:VEVENT
UID:KDIG1958135812
DTSTART:20260111T090000Z
SEQUENCE:0
TRANSP:OPAQUE
DTEND:20260111T105900Z
SUMMARY:DARC 10m Contest
CLASS:PUBLIC
CATEGORIES:DARC
DTSTAMP:20260325T104632Z
CREATED:20260111T144758Z
END:VEVENT
BEGIN:VEVENT
UID:KDIG1224066044
DTSTART:20260114T180000Z
SEQUENCE:0
TRANSP:OPAQUE
DTEND:20260114T183000Z
SUMMARY:Notfunk Übung
CLASS:PUBLIC
DESCRIPTION:Notfunk Übung Städteregion Aachen und Kreis Euskirchen
CATEGORIES:DARC
DTSTAMP:20260325T104632Z
CREATED:20250804T165614Z
END:VEVENT
BEGIN:VEVENT
UID:KDIG1142964233
DTSTART:20260116T180000Z
SEQUENCE:0
TRANSP:OPAQUE
DTEND:20260116T210000Z
LOCATION:Bauernmuseeum Lammersdorf\, Bahnhofstrasse 3\, 52152 Simmerath-Lam
 mersdorf
SUMMARY:Techniktreff G26 Rureifel
ATTENDEE:Alle Funkinteressierten
CLASS:PUBLIC
CATEGORIES:DARC
DTSTAMP:20260325T104632Z
CREATED:20250605T091021Z
LAST-MODIFIED:20250605T155925Z
END:VEVENT
BEGIN:VEVENT
UID:KDIG1959101026
DTSTART:20260117T120000Z
SEQUENCE:0
TRANSP:OPAQUE
DTEND:20260117T180000Z
SUMMARY:Treffen in G
CLASS:PUBLIC
CATEGORIES:DARC
DTSTAMP:20260325T104632Z
CREATED:20260111T173504Z
END:VEVENT
BEGIN:VEVENT
UID:KDIG1142962061
DTSTART:20260205T180000Z
SEQUENCE:0
TRANSP:OPAQUE
DTEND:20260205T210000Z
LOCATION:https://treff.darc.de/d/#/Teilnehmer/ZthJ5Fsh
SUMMARY:EMV Sprechstunde
ATTENDEE:Alle DARC Mitglieder
CLASS:PUBLIC
DESCRIPTION:EMV Beratung des Distrikt G
CATEGORIES:DARC
DTSTAMP:20260325T104632Z
CREATED:20250605T090714Z
END:VEVENT
BEGIN:VEVENT
UID:KDIG1142953313
DTSTART:20260206T180000Z
SEQUENCE:0
TRANSP:OPAQUE
DTEND:20260206T210000Z
LOCATION:Gasthof Stollenwerk\, Im Hech 4\, 52152 Simmerath-Steckenborn
SUMMARY:OV Abend
ATTENDEE:OV Mitglieder und Gäste
CLASS:PUBLIC
DESCRIPTION:Monatliche OV Abend des Ortsverbandes G26 Rureifel
CATEGORIES:DARC
DTSTAMP:20260325T104632Z
CREATED:20250605T090419Z
LAST-MODIFIED:20250605T094444Z
END:VEVENT
BEGIN:VEVENT
UID:KDIG1224066045
DTSTART:20260211T180000Z
SEQUENCE:0
TRANSP:OPAQUE
DTEND:20260211T183000Z
SUMMARY:Notfunk Übung
CLASS:PUBLIC
DESCRIPTION:Notfunk Übung Städteregion Aachen und Kreis Euskirchen
CATEGORIES:DARC
DTSTAMP:20260325T104632Z
CREATED:20250804T165614Z
END:VEVENT
BEGIN:VEVENT
UID:KDIG1142964234
DTSTART:20260220T180000Z
SEQUENCE:0
TRANSP:OPAQUE
DTEND:20260220T210000Z
LOCATION:Bauernmuseeum Lammersdorf\, Bahnhofstrasse 3\, 52152 Simmerath-Lam
 mersdorf
SUMMARY:Techniktreff G26 Rureifel
ATTENDEE:Alle Funkinteressierten
CLASS:PUBLIC
CATEGORIES:DARC
DTSTAMP:20260325T104632Z
CREATED:20250605T091021Z
LAST-MODIFIED:20250605T155925Z
END:VEVENT
BEGIN:VEVENT
UID:KDIG1964797787
DTSTART:20260221T130000Z
SEQUENCE:0
TRANSP:OPAQUE
DTEND:20260221T160000Z
SUMMARY:9. Notfunkübung Distrikt G
CLASS:PUBLIC
CATEGORIES:DARC
DTSTAMP:20260325T104632Z
CREATED:20260112T104845Z
END:VEVENT
BEGIN:VEVENT
UID:KDIG1958134820
DTSTART:20260227T220000Z
SEQUENCE:0
TRANSP:OPAQUE
DTEND:20260301T220000Z
LOCATION:Wasserbunker bei DL1KFS
SUMMARY:CQ 160m Contest
CLASS:PUBLIC
DESCRIPTION:SSB 160m Contest
CATEGORIES:DARC
DTSTAMP:20260325T104632Z
CREATED:20260111T144620Z
LAST-MODIFIED:20260111T170401Z
END:VEVENT
BEGIN:VEVENT
UID:KDIG1142962062
DTSTART:20260305T180000Z
SEQUENCE:0
TRANSP:OPAQUE
DTEND:20260305T210000Z
LOCATION:https://treff.darc.de/d/#/Teilnehmer/ZthJ5Fsh
SUMMARY:EMV Sprechstunde
ATTENDEE:Alle DARC Mitglieder
CLASS:PUBLIC
DESCRIPTION:EMV Beratung des Distrikt G
CATEGORIES:DARC
DTSTAMP:20260325T104632Z
CREATED:20250605T090714Z
END:VEVENT
BEGIN:VEVENT
UID:KDIG1142953314
DTSTART:20260306T180000Z
SEQUENCE:0
TRANSP:OPAQUE
DTEND:20260306T210000Z
LOCATION:Gasthof Stollenwerk\, Im Hech 4\, 52152 Simmerath-Steckenborn
SUMMARY:OV Abend
ATTENDEE:OV Mitglieder und Gäste
CLASS:PUBLIC
DESCRIPTION:Monatliche OV Abend des Ortsverbandes G26 Rureifel
CATEGORIES:DARC
DTSTAMP:20260325T104632Z
CREATED:20250605T090419Z
LAST-MODIFIED:20250605T094444Z
END:VEVENT
BEGIN:VEVENT
UID:KDIG1958144161
DTSTART:20260307T140000Z
SEQUENCE:0
TRANSP:OPAQUE
DTEND:20260308T135900Z
SUMMARY:DARC VHF/UHF Contest
CLASS:PUBLIC
DESCRIPTION:CM Klasse 03
CATEGORIES:DARC
DTSTAMP:20260325T104632Z
CREATED:20260111T145009Z
LAST-MODIFIED:20260111T145412Z
END:VEVENT
BEGIN:VEVENT
UID:KDIG1224066046
DTSTART:20260311T180000Z
SEQUENCE:0
TRANSP:OPAQUE
DTEND:20260311T183000Z
SUMMARY:Notfunk Übung
CLASS:PUBLIC
DESCRIPTION:Notfunk Übung Städteregion Aachen und Kreis Euskirchen
CATEGORIES:DARC
DTSTAMP:20260325T104632Z
CREATED:20250804T165614Z
END:VEVENT
BEGIN:VEVENT
UID:KDIG1964824698
DTSTART:20260312T095000Z
SEQUENCE:0
TRANSP:OPAQUE
DTEND:20260312T105000Z
SUMMARY:Warntag NRW
CLASS:PUBLIC
CATEGORIES:DARC
DTSTAMP:20260325T104632Z
CREATED:20260112T105051Z
END:VEVENT
BEGIN:VEVENT
UID:KDIG1142964235
DTSTART:20260320T180000Z
SEQUENCE:0
TRANSP:OPAQUE
DTEND:20260320T210000Z
LOCATION:Bauernmuseeum Lammersdorf\, Bahnhofstrasse 3\, 52152 Simmerath-Lam
 mersdorf
SUMMARY:Techniktreff G26 Rureifel
ATTENDEE:Alle Funkinteressierten
CLASS:PUBLIC
CATEGORIES:DARC
DTSTAMP:20260325T104632Z
CREATED:20250605T091021Z
LAST-MODIFIED:20250605T155925Z
END:VEVENT
BEGIN:VEVENT
UID:KDIG1958967669
DTSTART:20260321T110000Z
SEQUENCE:0
TRANSP:OPAQUE
DTEND:20260321T180000Z
LOCATION:Simmerath-Steckenborn\, Gasthof Stollenwerk
SUMMARY:Distriktsversammlung Köln-Aachen
CLASS:PUBLIC
CATEGORIES:DARC
DTSTAMP:20260325T104632Z
CREATED:20260111T171104Z
END:VEVENT
BEGIN:VEVENT
UID:KDIG1958963305
DTSTART:20260327T110000Z
SEQUENCE:0
TRANSP:OPAQUE
DTEND:20260329T110000Z
SUMMARY:EMV Tagung Kassel
ATTENDEE:EMV Referenten
CLASS:PUBLIC
CATEGORIES:DARC
DTSTAMP:20260325T104632Z
CREATED:20260111T170959Z
END:VEVENT
BEGIN:VEVENT
UID:KDIG1142962063
DTSTART:20260402T170000Z
SEQUENCE:0
TRANSP:OPAQUE
DTEND:20260402T200000Z
LOCATION:https://treff.darc.de/d/#/Teilnehmer/ZthJ5Fsh
SUMMARY:EMV Sprechstunde
ATTENDEE:Alle DARC Mitglieder
CLASS:PUBLIC
DESCRIPTION:EMV Beratung des Distrikt G
CATEGORIES:DARC
DTSTAMP:20260325T104632Z
CREATED:20250605T090714Z
END:VEVENT
BEGIN:VEVENT
UID:KDIG1958914016
DTSTART:20260406T150000Z
SEQUENCE:0
TRANSP:OPAQUE
DTEND:20260406T175900Z
SUMMARY:DARC Oster Contest
CLASS:PUBLIC
CATEGORIES:DARC
DTSTAMP:20260325T104632Z
CREATED:20260111T165855Z
END:VEVENT
BEGIN:VEVENT
UID:KDIG1224066047
DTSTART:20260408T170000Z
SEQUENCE:0
TRANSP:OPAQUE
DTEND:20260408T173000Z
SUMMARY:Notfunk Übung
CLASS:PUBLIC
DESCRIPTION:Notfunk Übung Städteregion Aachen und Kreis Euskirchen
CATEGORIES:DARC
DTSTAMP:20260325T104632Z
CREATED:20250804T165614Z
END:VEVENT
BEGIN:VEVENT
UID:KDIG1142953315
DTSTART:20260410T170000Z
SEQUENCE:0
TRANSP:OPAQUE
DTEND:20260410T200000Z
LOCATION:Gasthof Stollenwerk\, Im Hech 4\, 52152 Simmerath-Steckenborn
SUMMARY:OV Abend
ATTENDEE:OV Mitglieder und Gäste
CLASS:PUBLIC
DESCRIPTION:Monatliche OV Abend des Ortsverbandes G26 Rureifel\, mit Jahres
 hauptversammlung und Vorstandwahl
CATEGORIES:DARC
DTSTAMP:20260325T104632Z
CREATED:20250605T090419Z
LAST-MODIFIED:20260111T171205Z
END:VEVENT
BEGIN:VEVENT
UID:KDIG1142964236
DTSTART:20260417T170000Z
SEQUENCE:0
TRANSP:OPAQUE
DTEND:20260417T200000Z
LOCATION:Bauernmuseeum Lammersdorf\, Bahnhofstrasse 3\, 52152 Simmerath-Lam
 mersdorf
SUMMARY:Techniktreff G26 Rureifel
ATTENDEE:Alle Funkinteressierten
CLASS:PUBLIC
DESCRIPTION:Präsentation von Ben und Uwe aus G11. Selbsbau eine 20Ah LiFeP
 o Akku Pack\nGenaue Beschreibung kommt noch.
CATEGORIES:DARC
DTSTAMP:20260325T104632Z
CREATED:20250605T091021Z
LAST-MODIFIED:20260325T103234Z
END:VEVENT
BEGIN:VEVENT
UID:KDIG1958957725
DTSTART;VALUE=DATE:20260425
SEQUENCE:0
TRANSP:OPAQUE
DTEND;VALUE=DATE:20260426
SUMMARY:Funk Tag Kassel
CLASS:PUBLIC
X-MICROSOFT-CDO-ALLDAYEVENT:TRUE
CATEGORIES:DARC
DTSTAMP:20260325T104632Z
CREATED:20260111T170844Z
END:VEVENT
BEGIN:VEVENT
UID:KDIG1964821287
DTSTART:20260425T090000Z
SEQUENCE:0
TRANSP:OPAQUE
DTEND:20260425T130000Z
SUMMARY:Sprechfunkseminar Erft G50
CLASS:PUBLIC
CATEGORIES:DARC
DTSTAMP:20260325T104632Z
CREATED:20260112T105002Z
END:VEVENT
BEGIN:VEVENT
UID:KDIG1958147477
DTSTART:20260502T140000Z
SEQUENCE:0
TRANSP:OPAQUE
DTEND:20260503T125900Z
SUMMARY:DARC VHF / UHF Contest
CLASS:PUBLIC
DESCRIPTION:CM Klasse 05
CATEGORIES:DARC
DTSTAMP:20260325T104632Z
CREATED:20260111T145134Z
LAST-MODIFIED:20260111T145553Z
END:VEVENT
BEGIN:VEVENT
UID:KDIG1958990135
DTSTART:20260503T060000Z
SEQUENCE:0
TRANSP:OPAQUE
DTEND:20260503T160000Z
SUMMARY:Kraremannstag
CLASS:PUBLIC
CATEGORIES:DARC
DTSTAMP:20260325T104632Z
CREATED:20260111T171424Z
LAST-MODIFIED:20260111T171530Z
END:VEVENT
BEGIN:VEVENT
UID:KDIG1142962064
DTSTART:20260507T170000Z
SEQUENCE:0
TRANSP:OPAQUE
DTEND:20260507T200000Z
LOCATION:https://treff.darc.de/d/#/Teilnehmer/ZthJ5Fsh
SUMMARY:EMV Sprechstunde
ATTENDEE:Alle DARC Mitglieder
CLASS:PUBLIC
DESCRIPTION:EMV Beratung des Distrikt G
CATEGORIES:DARC
DTSTAMP:20260325T104632Z
CREATED:20250605T090714Z
END:VEVENT
BEGIN:VEVENT
UID:KDIG1142953316
DTSTART:20260508T170000Z
SEQUENCE:0
TRANSP:OPAQUE
DTEND:20260508T200000Z
LOCATION:Gasthof Stollenwerk\, Im Hech 4\, 52152 Simmerath-Steckenborn
SUMMARY:OV Abend
ATTENDEE:OV Mitglieder und Gäste
CLASS:PUBLIC
DESCRIPTION:Monatliche OV Abend des Ortsverbandes G26 Rureifel
CATEGORIES:DARC
DTSTAMP:20260325T104632Z
CREATED:20250605T090419Z
LAST-MODIFIED:20260115T133038Z
END:VEVENT
BEGIN:VEVENT
UID:KDIG2587608570
DTSTART:20260508T170000Z
SEQUENCE:0
TRANSP:OPAQUE
DTEND:20260508T200000Z
LOCATION:Bauernmuseeum Lammersdorf\, Bahnhofstrasse 3\, 52152 Simmerath-Lam
 mersdorf
SUMMARY:Antennenbau
ATTENDEE:Termin für nicht OV Mitglieder
CLASS:PUBLIC
DESCRIPTION:2m/70cm portable Antenne nach DL1DN
CATEGORIES:DARC
DTSTAMP:20260325T104632Z
CREATED:20260325T103522Z
LAST-MODIFIED:20260325T103936Z
END:VEVENT
BEGIN:VEVENT
UID:KDIG1964794350
DTSTART:20260509T070000Z
SEQUENCE:0
TRANSP:OPAQUE
DTEND:20260509T120000Z
SUMMARY:Bergheimer Flohmarkt
CLASS:PUBLIC
DESCRIPTION:G20
CATEGORIES:DARC
DTSTAMP:20260325T104632Z
CREATED:20260112T104718Z
END:VEVENT
BEGIN:VEVENT
UID:KDIG1224066048
DTSTART:20260513T170000Z
SEQUENCE:0
TRANSP:OPAQUE
DTEND:20260513T173000Z
SUMMARY:Notfunk Übung
CLASS:PUBLIC
DESCRIPTION:Notfunk Übung Städteregion Aachen und Kreis Euskirchen
CATEGORIES:DARC
DTSTAMP:20260325T104632Z
CREATED:20250804T165614Z
END:VEVENT
BEGIN:VEVENT
UID:KDIG1142964237
DTSTART:20260515T170000Z
SEQUENCE:0
TRANSP:OPAQUE
DTEND:20260515T200000Z
LOCATION:Bauernmuseeum Lammersdorf\, Bahnhofstrasse 3\, 52152 Simmerath-Lam
 mersdorf
SUMMARY:Antennenbau
ATTENDEE:Termin für OV Mitglieder
CLASS:PUBLIC
DESCRIPTION:2m/70cm portable Antenne nach DL1DN
CATEGORIES:DARC
DTSTAMP:20260325T104632Z
CREATED:20250605T091021Z
LAST-MODIFIED:20260325T103857Z
END:VEVENT
BEGIN:VEVENT
UID:KDIG1959006011
DTSTART;VALUE=DATE:20260524
SEQUENCE:0
TRANSP:OPAQUE
DTEND;VALUE=DATE:20260526
SUMMARY:Wasserbunker
CLASS:PUBLIC
X-MICROSOFT-CDO-ALLDAYEVENT:TRUE
CATEGORIES:DARC
DTSTAMP:20260325T104632Z
CREATED:20260111T171701Z
END:VEVENT
BEGIN:VEVENT
UID:KDIG1142962065
DTSTART:20260604T170000Z
SEQUENCE:0
TRANSP:OPAQUE
DTEND:20260604T200000Z
LOCATION:https://treff.darc.de/d/#/Teilnehmer/ZthJ5Fsh
SUMMARY:EMV Sprechstunde
ATTENDEE:Alle DARC Mitglieder
CLASS:PUBLIC
DESCRIPTION:EMV Beratung des Distrikt G
CATEGORIES:DARC
DTSTAMP:20260325T104632Z
CREATED:20250605T090714Z
END:VEVENT
BEGIN:VEVENT
UID:KDIG1142953317
DTSTART:20260605T170000Z
SEQUENCE:0
TRANSP:OPAQUE
DTEND:20260605T200000Z
LOCATION:Gasthof Stollenwerk\, Im Hech 4\, 52152 Simmerath-Steckenborn
SUMMARY:OV Abend
ATTENDEE:OV Mitglieder und Gäste
CLASS:PUBLIC
DESCRIPTION:Monatliche OV Abend des Ortsverbandes G26 Rureifel
CATEGORIES:DARC
DTSTAMP:20260325T104632Z
CREATED:20250605T090419Z
LAST-MODIFIED:20250605T094444Z
END:VEVENT
BEGIN:VEVENT
UID:KDIG1958814046
DTSTART:20260606T120000Z
SEQUENCE:0
TRANSP:OPAQUE
DTEND:20260607T115900Z
SUMMARY:IARU CW Fieldday
CLASS:PUBLIC
CATEGORIES:DARC
DTSTAMP:20260325T104632Z
CREATED:20260111T164419Z
END:VEVENT
BEGIN:VEVENT
UID:KDIG1958889055
DTSTART:20260606T140000Z
SEQUENCE:0
TRANSP:OPAQUE
DTEND:20260607T135900Z
SUMMARY:DARC uW Contest
CLASS:PUBLIC
CATEGORIES:DARC
DTSTAMP:20260325T104632Z
CREATED:20260111T165602Z
END:VEVENT
BEGIN:VEVENT
UID:KDIG1224066049
DTSTART:20260610T170000Z
SEQUENCE:0
TRANSP:OPAQUE
DTEND:20260610T173000Z
SUMMARY:Notfunk Übung
CLASS:PUBLIC
DESCRIPTION:Notfunk Übung Städteregion Aachen und Kreis Euskirchen
CATEGORIES:DARC
DTSTAMP:20260325T104632Z
CREATED:20250804T165614Z
END:VEVENT
BEGIN:VEVENT
UID:KDIG1990175633
DTSTART:20260613T140000Z
SEQUENCE:0
TRANSP:OPAQUE
DTEND:20260613T150000Z
LOCATION:FW-Wache Hürth\, Raum Florian 1
SUMMARY:Planungstreffen Notfunkübung
CLASS:PUBLIC
DESCRIPTION:Komplexes Szenario
CATEGORIES:DARC
DTSTAMP:20260325T104632Z
CREATED:20260115T132419Z
END:VEVENT
BEGIN:VEVENT
UID:KDIG1142964238
DTSTART:20260619T170000Z
SEQUENCE:0
TRANSP:OPAQUE
DTEND:20260619T200000Z
LOCATION:Bauernmuseeum Lammersdorf\, Bahnhofstrasse 3\, 52152 Simmerath-Lam
 mersdorf
SUMMARY:Techniktreff G26 Rureifel
ATTENDEE:Alle Funkinteressierten
CLASS:PUBLIC
CATEGORIES:DARC
DTSTAMP:20260325T104632Z
CREATED:20250605T091021Z
LAST-MODIFIED:20250605T155925Z
END:VEVENT
BEGIN:VEVENT
UID:KDIG1959080372
DTSTART;VALUE=DATE:20260626
SEQUENCE:0
TRANSP:OPAQUE
DTEND;VALUE=DATE:20260629
LOCATION:Friedrichshafen
SUMMARY:Ham Radio
CLASS:PUBLIC
X-MICROSOFT-CDO-ALLDAYEVENT:TRUE
CATEGORIES:DARC
DTSTAMP:20260325T104632Z
CREATED:20260111T173317Z
END:VEVENT
BEGIN:VEVENT
UID:KDIG1142962066
DTSTART:20260702T170000Z
SEQUENCE:0
TRANSP:OPAQUE
DTEND:20260702T200000Z
LOCATION:https://treff.darc.de/d/#/Teilnehmer/ZthJ5Fsh
SUMMARY:EMV Sprechstunde
ATTENDEE:Alle DARC Mitglieder
CLASS:PUBLIC
DESCRIPTION:EMV Beratung des Distrikt G
CATEGORIES:DARC
DTSTAMP:20260325T104632Z
CREATED:20250605T090714Z
END:VEVENT
BEGIN:VEVENT
UID:KDIG1142953318
DTSTART:20260703T170000Z
SEQUENCE:0
TRANSP:OPAQUE
DTEND:20260703T200000Z
LOCATION:Gasthof Stollenwerk\, Im Hech 4\, 52152 Simmerath-Steckenborn
SUMMARY:OV Abend
ATTENDEE:OV Mitglieder und Gäste
CLASS:PUBLIC
DESCRIPTION:Monatliche OV Abend des Ortsverbandes G26 Rureifel
CATEGORIES:DARC
DTSTAMP:20260325T104632Z
CREATED:20250605T090419Z
LAST-MODIFIED:20250605T094444Z
END:VEVENT
BEGIN:VEVENT
UID:KDIG1958163501
DTSTART:20260704T140000Z
SEQUENCE:0
TRANSP:OPAQUE
DTEND:20260705T155900Z
SUMMARY:DARC VHF / UHF Contest
CLASS:PUBLIC
DESCRIPTION:CM Klasse 07
CATEGORIES:DARC
DTSTAMP:20260325T104632Z
CREATED:20260111T145321Z
LAST-MODIFIED:20260111T145619Z
END:VEVENT
BEGIN:VEVENT
UID:KDIG1224066050
DTSTART:20260708T170000Z
SEQUENCE:0
TRANSP:OPAQUE
DTEND:20260708T173000Z
SUMMARY:Notfunk Übung
CLASS:PUBLIC
DESCRIPTION:Notfunk Übung Städteregion Aachen und Kreis Euskirchen
CATEGORIES:DARC
DTSTAMP:20260325T104632Z
CREATED:20250804T165614Z
END:VEVENT
BEGIN:VEVENT
UID:KDIG1990183728
DTSTART;VALUE=DATE:20260717
SEQUENCE:0
TRANSP:OPAQUE
DTEND;VALUE=DATE:20260720
SUMMARY:Notfunk Filedday Odenthal Eikamp
CLASS:PUBLIC
X-MICROSOFT-CDO-ALLDAYEVENT:TRUE
CATEGORIES:DARC
DTSTAMP:20260325T104632Z
CREATED:20260115T132512Z
END:VEVENT
BEGIN:VEVENT
UID:KDIG1142964239
DTSTART:20260717T170000Z
SEQUENCE:0
TRANSP:OPAQUE
DTEND:20260717T200000Z
LOCATION:Bauernmuseeum Lammersdorf\, Bahnhofstrasse 3\, 52152 Simmerath-Lam
 mersdorf
SUMMARY:Techniktreff G26 Rureifel
ATTENDEE:Alle Funkinteressierten
CLASS:PUBLIC
CATEGORIES:DARC
DTSTAMP:20260325T104632Z
CREATED:20250605T091021Z
LAST-MODIFIED:20250605T155925Z
END:VEVENT
BEGIN:VEVENT
UID:KDIG1958895400
DTSTART:20260801T140000Z
SEQUENCE:0
TRANSP:OPAQUE
DTEND:20260802T135900Z
SUMMARY:IARU Reg 1 VHF Contest
CLASS:PUBLIC
CATEGORIES:DARC
DTSTAMP:20260325T104632Z
CREATED:20260111T165656Z
END:VEVENT
BEGIN:VEVENT
UID:KDIG1142962067
DTSTART:20260806T170000Z
SEQUENCE:0
TRANSP:OPAQUE
DTEND:20260806T200000Z
LOCATION:https://treff.darc.de/d/#/Teilnehmer/ZthJ5Fsh
SUMMARY:EMV Sprechstunde
ATTENDEE:Alle DARC Mitglieder
CLASS:PUBLIC
DESCRIPTION:EMV Beratung des Distrikt G
CATEGORIES:DARC
DTSTAMP:20260325T104632Z
CREATED:20250605T090715Z
END:VEVENT
BEGIN:VEVENT
UID:KDIG1142953319
DTSTART:20260807T170000Z
SEQUENCE:0
TRANSP:OPAQUE
DTEND:20260807T200000Z
LOCATION:Gasthof Stollenwerk\, Im Hech 4\, 52152 Simmerath-Steckenborn
SUMMARY:OV Abend
ATTENDEE:OV Mitglieder und Gäste
CLASS:PUBLIC
DESCRIPTION:Monatliche OV Abend des Ortsverbandes G26 Rureifel
CATEGORIES:DARC
DTSTAMP:20260325T104632Z
CREATED:20250605T090419Z
LAST-MODIFIED:20250605T094444Z
END:VEVENT
BEGIN:VEVENT
UID:KDIG1958826275
DTSTART:20260808T000000Z
SEQUENCE:0
TRANSP:OPAQUE
DTEND:20260809T235900Z
SUMMARY:Europe DX Contest (WAEDC) CW
CLASS:PUBLIC
CATEGORIES:DARC
DTSTAMP:20260325T104632Z
CREATED:20260111T164651Z
LAST-MODIFIED:20260111T164916Z
END:VEVENT
BEGIN:VEVENT
UID:KDIG1224066051
DTSTART:20260812T170000Z
SEQUENCE:0
TRANSP:OPAQUE
DTEND:20260812T173000Z
SUMMARY:Notfunk Übung
CLASS:PUBLIC
DESCRIPTION:Notfunk Übung Städteregion Aachen und Kreis Euskirchen
CATEGORIES:DARC
DTSTAMP:20260325T104632Z
CREATED:20250804T165614Z
END:VEVENT
BEGIN:VEVENT
UID:KDIG1142964240
DTSTART:20260821T170000Z
SEQUENCE:0
TRANSP:OPAQUE
DTEND:20260821T200000Z
LOCATION:Bauernmuseeum Lammersdorf\, Bahnhofstrasse 3\, 52152 Simmerath-Lam
 mersdorf
SUMMARY:Techniktreff G26 Rureifel
ATTENDEE:Alle Funkinteressierten
CLASS:PUBLIC
CATEGORIES:DARC
DTSTAMP:20260325T104632Z
CREATED:20250605T091021Z
LAST-MODIFIED:20250605T155925Z
END:VEVENT
BEGIN:VEVENT
UID:KDIG1142962068
DTSTART:20260903T170000Z
SEQUENCE:0
TRANSP:OPAQUE
DTEND:20260903T200000Z
LOCATION:https://treff.darc.de/d/#/Teilnehmer/ZthJ5Fsh
SUMMARY:EMV Sprechstunde
ATTENDEE:Alle DARC Mitglieder
CLASS:PUBLIC
DESCRIPTION:EMV Beratung des Distrikt G
CATEGORIES:DARC
DTSTAMP:20260325T104632Z
CREATED:20250605T090715Z
END:VEVENT
BEGIN:VEVENT
UID:KDIG1142953320
DTSTART:20260904T170000Z
SEQUENCE:0
TRANSP:OPAQUE
DTEND:20260904T200000Z
LOCATION:Gasthof Stollenwerk\, Im Hech 4\, 52152 Simmerath-Steckenborn
SUMMARY:OV Abend
ATTENDEE:OV Mitglieder und Gäste
CLASS:PUBLIC
DESCRIPTION:Monatliche OV Abend des Ortsverbandes G26 Rureifel
CATEGORIES:DARC
DTSTAMP:20260325T104632Z
CREATED:20250605T090419Z
LAST-MODIFIED:20250605T094444Z
END:VEVENT
BEGIN:VEVENT
UID:KDIG1958826297
DTSTART:20260905T130000Z
SEQUENCE:0
TRANSP:OPAQUE
DTEND:20260906T125900Z
SUMMARY:IARU Region 1 Fieldday SSB
CLASS:PUBLIC
CATEGORIES:DARC
DTSTAMP:20260325T104632Z
CREATED:20260111T164751Z
END:VEVENT
BEGIN:VEVENT
UID:KDIG1966370851
DTSTART:20260905T140000Z
SEQUENCE:0
TRANSP:OPAQUE
DTEND:20260906T135900Z
SUMMARY:IARU R1 145 MHz Contest
CLASS:PUBLIC
CATEGORIES:DARC
DTSTAMP:20260325T104632Z
CREATED:20260112T150813Z
END:VEVENT
BEGIN:VEVENT
UID:KDIG1224066052
DTSTART:20260909T170000Z
SEQUENCE:0
TRANSP:OPAQUE
DTEND:20260909T173000Z
SUMMARY:Notfunk Übung
CLASS:PUBLIC
DESCRIPTION:Notfunk Übung Städteregion Aachen und Kreis Euskirchen
CATEGORIES:DARC
DTSTAMP:20260325T104632Z
CREATED:20250804T165614Z
END:VEVENT
BEGIN:VEVENT
UID:KDIG1964826727
DTSTART:20260910T085000Z
SEQUENCE:0
TRANSP:OPAQUE
DTEND:20260910T095000Z
SUMMARY:Bundesweiter Warntag
CLASS:PUBLIC
CATEGORIES:DARC
DTSTAMP:20260325T104632Z
CREATED:20260112T105127Z
END:VEVENT
BEGIN:VEVENT
UID:KDIG1958837173
DTSTART:20260912T000000Z
SEQUENCE:0
TRANSP:OPAQUE
DTEND:20260913T235900Z
SUMMARY:Europa DX Contest (WAEDC) SSB
CLASS:PUBLIC
CATEGORIES:DARC
DTSTAMP:20260325T104632Z
CREATED:20260111T164902Z
END:VEVENT
BEGIN:VEVENT
UID:KDIG1142964241
DTSTART:20260918T170000Z
SEQUENCE:0
TRANSP:OPAQUE
DTEND:20260918T200000Z
LOCATION:Bauernmuseeum Lammersdorf\, Bahnhofstrasse 3\, 52152 Simmerath-Lam
 mersdorf
SUMMARY:Techniktreff G26 Rureifel
ATTENDEE:Alle Funkinteressierten
CLASS:PUBLIC
CATEGORIES:DARC
DTSTAMP:20260325T104632Z
CREATED:20250605T091021Z
LAST-MODIFIED:20250605T155925Z
END:VEVENT
BEGIN:VEVENT
UID:KDIG1142962069
DTSTART:20261001T170000Z
SEQUENCE:0
TRANSP:OPAQUE
DTEND:20261001T200000Z
LOCATION:https://treff.darc.de/d/#/Teilnehmer/ZthJ5Fsh
SUMMARY:EMV Sprechstunde
ATTENDEE:Alle DARC Mitglieder
CLASS:PUBLIC
DESCRIPTION:EMV Beratung des Distrikt G
CATEGORIES:DARC
DTSTAMP:20260325T104632Z
CREATED:20250605T090715Z
END:VEVENT
BEGIN:VEVENT
UID:KDIG1142953321
DTSTART:20261002T170000Z
SEQUENCE:0
TRANSP:OPAQUE
DTEND:20261002T200000Z
LOCATION:Gasthof Stollenwerk\, Im Hech 4\, 52152 Simmerath-Steckenborn
SUMMARY:OV Abend
ATTENDEE:OV Mitglieder und Gäste
CLASS:PUBLIC
DESCRIPTION:Monatliche OV Abend des Ortsverbandes G26 Rureifel
CATEGORIES:DARC
DTSTAMP:20260325T104632Z
CREATED:20250605T090419Z
LAST-MODIFIED:20250605T094444Z
END:VEVENT
BEGIN:VEVENT
UID:KDIG1958185951
DTSTART:20261003T140000Z
SEQUENCE:0
TRANSP:OPAQUE
DTEND:20261004T155900Z
SUMMARY:IARU Reg1 UHF Contest
CLASS:PUBLIC
CATEGORIES:DARC
DTSTAMP:20260325T104632Z
CREATED:20260111T145710Z
END:VEVENT
BEGIN:VEVENT
UID:KDIG1224066053
DTSTART:20261014T170000Z
SEQUENCE:0
TRANSP:OPAQUE
DTEND:20261014T173000Z
SUMMARY:Notfunk Übung
CLASS:PUBLIC
DESCRIPTION:Notfunk Übung Städteregion Aachen und Kreis Euskirchen
CATEGORIES:DARC
DTSTAMP:20260325T104632Z
CREATED:20250804T165614Z
END:VEVENT
BEGIN:VEVENT
UID:KDIG1142964242
DTSTART:20261016T170000Z
SEQUENCE:0
TRANSP:OPAQUE
DTEND:20261016T200000Z
LOCATION:Bauernmuseeum Lammersdorf\, Bahnhofstrasse 3\, 52152 Simmerath-Lam
 mersdorf
SUMMARY:Techniktreff G26 Rureifel
ATTENDEE:Alle Funkinteressierten
CLASS:PUBLIC
CATEGORIES:DARC
DTSTAMP:20260325T104632Z
CREATED:20250605T091021Z
LAST-MODIFIED:20250605T155925Z
END:VEVENT
BEGIN:VEVENT
UID:KDIG1958855261
DTSTART:20261017T150000Z
SEQUENCE:0
TRANSP:OPAQUE
DTEND:20261018T145900Z
SUMMARY:WAG Contest
CLASS:PUBLIC
CATEGORIES:DARC
DTSTAMP:20260325T104632Z
CREATED:20260111T165136Z
END:VEVENT
BEGIN:VEVENT
UID:KDIG1142962070
DTSTART:20261105T180000Z
SEQUENCE:0
TRANSP:OPAQUE
DTEND:20261105T210000Z
LOCATION:https://treff.darc.de/d/#/Teilnehmer/ZthJ5Fsh
SUMMARY:EMV Sprechstunde
ATTENDEE:Alle DARC Mitglieder
CLASS:PUBLIC
DESCRIPTION:EMV Beratung des Distrikt G
CATEGORIES:DARC
DTSTAMP:20260325T104632Z
CREATED:20250605T090715Z
END:VEVENT
BEGIN:VEVENT
UID:KDIG1142953322
DTSTART:20261106T180000Z
SEQUENCE:0
TRANSP:OPAQUE
DTEND:20261106T210000Z
LOCATION:Gasthof Stollenwerk\, Im Hech 4\, 52152 Simmerath-Steckenborn
SUMMARY:OV Abend
ATTENDEE:OV Mitglieder und Gäste
CLASS:PUBLIC
DESCRIPTION:Monatliche OV Abend des Ortsverbandes G26 Rureifel
CATEGORIES:DARC
DTSTAMP:20260325T104632Z
CREATED:20250605T090419Z
LAST-MODIFIED:20250605T094444Z
END:VEVENT
BEGIN:VEVENT
UID:KDIG1958190746
DTSTART:20261107T140000Z
SEQUENCE:0
TRANSP:OPAQUE
DTEND:20261108T155900Z
SUMMARY:IARU Reg 1 VHF CW Contest
CLASS:PUBLIC
CATEGORIES:DARC
DTSTAMP:20260325T104632Z
CREATED:20260111T145757Z
END:VEVENT
BEGIN:VEVENT
UID:KDIG1224066054
DTSTART:20261111T180000Z
SEQUENCE:0
TRANSP:OPAQUE
DTEND:20261111T183000Z
SUMMARY:Notfunk Übung
CLASS:PUBLIC
DESCRIPTION:Notfunk Übung Städteregion Aachen und Kreis Euskirchen
CATEGORIES:DARC
DTSTAMP:20260325T104632Z
CREATED:20250804T165614Z
END:VEVENT
BEGIN:VEVENT
UID:KDIG1958923646
DTSTART:20261114T000000Z
SEQUENCE:0
TRANSP:OPAQUE
DTEND:20261115T235900Z
SUMMARY:Europe DX Contest (WAEDC) RTTY
CLASS:PUBLIC
CATEGORIES:DARC
DTSTAMP:20260325T104632Z
CREATED:20260111T170119Z
END:VEVENT
BEGIN:VEVENT
UID:KDIG1142964243
DTSTART:20261120T180000Z
SEQUENCE:0
TRANSP:OPAQUE
DTEND:20261120T210000Z
LOCATION:Bauernmuseeum Lammersdorf\, Bahnhofstrasse 3\, 52152 Simmerath-Lam
 mersdorf
SUMMARY:Techniktreff G26 Rureifel
ATTENDEE:Alle Funkinteressierten
CLASS:PUBLIC
CATEGORIES:DARC
DTSTAMP:20260325T104632Z
CREATED:20250605T091021Z
LAST-MODIFIED:20250605T155925Z
END:VEVENT
BEGIN:VEVENT
UID:KDIG1964830587
DTSTART;VALUE=DATE:20261128
SEQUENCE:0
TRANSP:OPAQUE
DTEND;VALUE=DATE:20261130
SUMMARY:Distrikt G Notfunkübung
CLASS:PUBLIC
DESCRIPTION:Komplexes Szenario
X-MICROSOFT-CDO-ALLDAYEVENT:TRUE
CATEGORIES:DARC
DTSTAMP:20260325T104632Z
CREATED:20260112T105212Z
LAST-MODIFIED:20260115T132557Z
END:VEVENT
BEGIN:VEVENT
UID:KDIG1142962071
DTSTART:20261203T180000Z
SEQUENCE:0
TRANSP:OPAQUE
DTEND:20261203T210000Z
LOCATION:https://treff.darc.de/d/#/Teilnehmer/ZthJ5Fsh
SUMMARY:EMV Sprechstunde
ATTENDEE:Alle DARC Mitglieder
CLASS:PUBLIC
DESCRIPTION:EMV Beratung des Distrikt G
CATEGORIES:DARC
DTSTAMP:20260325T104632Z
CREATED:20250605T090715Z
END:VEVENT
BEGIN:VEVENT
UID:KDIG1142953323
DTSTART:20261204T180000Z
SEQUENCE:0
TRANSP:OPAQUE
DTEND:20261204T210000Z
LOCATION:Gasthof Stollenwerk\, Im Hech 4\, 52152 Simmerath-Steckenborn
SUMMARY:OV Abend
ATTENDEE:OV Mitglieder und Gäste
CLASS:PUBLIC
DESCRIPTION:Monatliche OV Abend des Ortsverbandes G26 Rureifel
CATEGORIES:DARC
DTSTAMP:20260325T104632Z
CREATED:20250605T090419Z
LAST-MODIFIED:20250605T094444Z
END:VEVENT
BEGIN:VEVENT
UID:KDIG1224066055
DTSTART:20261209T180000Z
SEQUENCE:0
TRANSP:OPAQUE
DTEND:20261209T183000Z
SUMMARY:Notfunk Übung
CLASS:PUBLIC
DESCRIPTION:Notfunk Übung Städteregion Aachen und Kreis Euskirchen
CATEGORIES:DARC
DTSTAMP:20260325T104632Z
CREATED:20250804T165614Z
END:VEVENT
BEGIN:VEVENT
UID:KDIG1142964244
DTSTART:20261218T180000Z
SEQUENCE:0
TRANSP:OPAQUE
DTEND:20261218T210000Z
LOCATION:Bauernmuseeum Lammersdorf\, Bahnhofstrasse 3\, 52152 Simmerath-Lam
 mersdorf
SUMMARY:Techniktreff G26 Rureifel
ATTENDEE:Alle Funkinteressierten
CLASS:PUBLIC
CATEGORIES:DARC
DTSTAMP:20260325T104632Z
CREATED:20250605T091021Z
LAST-MODIFIED:20250605T155925Z
END:VEVENT
END:VCALENDAR